BEGIN:VCALENDAR
VERSION:2.0
PRODID:-//St Anthony&#039;s School of Higher Education - ECPv6.15.20//NONSGML v1.0//EN
CALSCALE:GREGORIAN
METHOD:PUBLISH
X-WR-CALNAME:St Anthony&#039;s School of Higher Education
X-ORIGINAL-URL:https://sashe.net
X-WR-CALDESC:Events for St Anthony&#039;s School of Higher Education
REFRESH-INTERVAL;VALUE=DURATION:PT1H
X-Robots-Tag:noindex
X-PUBLISHED-TTL:PT1H
BEGIN:VTIMEZONE
TZID:America/New_York
BEGIN:DAYLIGHT
TZOFFSETFROM:-0500
TZOFFSETTO:-0400
TZNAME:EDT
DTSTART:20230312T070000
END:DAYLIGHT
BEGIN:STANDARD
TZOFFSETFROM:-0400
TZOFFSETTO:-0500
TZNAME:EST
DTSTART:20231105T060000
END:STANDARD
BEGIN:DAYLIGHT
TZOFFSETFROM:-0500
TZOFFSETTO:-0400
TZNAME:EDT
DTSTART:20240310T070000
END:DAYLIGHT
BEGIN:STANDARD
TZOFFSETFROM:-0400
TZOFFSETTO:-0500
TZNAME:EST
DTSTART:20241103T060000
END:STANDARD
BEGIN:DAYLIGHT
TZOFFSETFROM:-0500
TZOFFSETTO:-0400
TZNAME:EDT
DTSTART:20250309T070000
END:DAYLIGHT
BEGIN:STANDARD
TZOFFSETFROM:-0400
TZOFFSETTO:-0500
TZNAME:EST
DTSTART:20251102T060000
END:STANDARD
END:VTIMEZONE
BEGIN:VEVENT
DTSTART;TZID=America/New_York:20240419T080000
DTEND;TZID=America/New_York:20240419T170000
DTSTAMP:20260424T081259
CREATED:20240419T134204Z
LAST-MODIFIED:20240419T134205Z
UID:3678-1713513600-1713546000@sashe.net
SUMMARY:Student Testing
DESCRIPTION:Parents\, today is day two (2) of testing for our 6th and 7th grade scholars. They will be testing in the area of Reading today. Please make sure they have a good night’s rest and a healthy breakfast so they can focus and achieve the greatest results. Go Mighty Lions!!!
URL:https://sashe.net/event/student-testing-5/
END:VEVENT
BEGIN:VEVENT
DTSTART;TZID=America/New_York:20240419T050000
DTEND;TZID=America/New_York:20240420T000100
DTSTAMP:20260424T081259
CREATED:20240330T014909Z
LAST-MODIFIED:20240330T014914Z
UID:3386-1713502800-1713571260@sashe.net
SUMMARY:Gradbash
DESCRIPTION:Students trip to Universal Studio\, Orlando
URL:https://sashe.net/event/gradbash/
END:VEVENT
BEGIN:VEVENT
DTSTART;TZID=America/New_York:20240418T050000
DTEND;TZID=America/New_York:20240418T070000
DTSTAMP:20260424T081259
CREATED:20240327T175742Z
LAST-MODIFIED:20240327T180642Z
UID:2948-1713416400-1713423600@sashe.net
SUMMARY:Student Testing
DESCRIPTION:Parents today is the second day our Elementary scholars will be testing in Math and also the first of two (2) make-up days for those scholars who may have missed testing earlier this week. Please make sure they have a good night’s rest and a healthy breakfast so they can focus and achieve the greatest results. Go Mighty Lions!!!
URL:https://sashe.net/event/student-testing-4/
END:VEVENT
BEGIN:VEVENT
DTSTART;TZID=America/New_York:20240417T050000
DTEND;TZID=America/New_York:20240417T070000
DTSTAMP:20260424T081259
CREATED:20240327T175554Z
LAST-MODIFIED:20240327T175949Z
UID:2946-1713330000-1713337200@sashe.net
SUMMARY:Student Testing
DESCRIPTION:Parents our Elementary scholars will be testing in the area of Math today. Please make sure they have a good night’s rest and a healthy breakfast so they can focus and achieve the greatest results. Go Mighty Lions!!!
URL:https://sashe.net/event/student-testing-3/
END:VEVENT
BEGIN:VEVENT
DTSTART;TZID=America/New_York:20240416T050000
DTEND;TZID=America/New_York:20240416T070000
DTSTAMP:20260424T081259
CREATED:20240327T175504Z
LAST-MODIFIED:20240327T180741Z
UID:2944-1713243600-1713250800@sashe.net
SUMMARY:Student Testing
DESCRIPTION:Parents today is day two (2) of our Elementary scholars testing in the area of Reading. Please make sure they have a good night’s rest and a healthy breakfast so they can focus and achieve the greatest results. Go Mighty Lions!!!
URL:https://sashe.net/event/student-testing-2/
END:VEVENT
BEGIN:VEVENT
DTSTART;TZID=America/New_York:20240415T050000
DTEND;TZID=America/New_York:20240415T070000
DTSTAMP:20260424T081259
CREATED:20240327T175155Z
LAST-MODIFIED:20240419T133739Z
UID:2938-1713157200-1713164400@sashe.net
SUMMARY:Student Testing
DESCRIPTION:Parents today begins testing week for our Elementary scholars. They will be testing in the area of Reading today. Please make sure they have a good night’s rest and a healthy breakfast so they can focus and achieve the greatest results. Go Mighty Lions!!!
URL:https://sashe.net/event/student-testing/
END:VEVENT
BEGIN:VEVENT
DTSTART;TZID=America/New_York:20240331T040000
DTEND;TZID=America/New_York:20240331T130000
DTSTAMP:20260424T081259
CREATED:20240320T173759Z
LAST-MODIFIED:20240320T173854Z
UID:2644-1711857600-1711890000@sashe.net
SUMMARY:Deadline for Grad Bash payment
DESCRIPTION:Today is the deadline for the $250.00 payment that is due to secure a seat on the bus and your Grad Bash ticket.
URL:https://sashe.net/event/deadline-for-grad-bash-payment/
END:VEVENT
BEGIN:VEVENT
DTSTART;TZID=America/New_York:20240321T040000
DTEND;TZID=America/New_York:20240321T100000
DTSTAMP:20260424T081259
CREATED:20240320T173423Z
LAST-MODIFIED:20240320T174048Z
UID:2642-1710993600-1711015200@sashe.net
SUMMARY:Youth Fair Trip
DESCRIPTION:We will be going on our annual Youth Fair Trip to have a great time of food and fun on the rides. The fee is $20.00.
URL:https://sashe.net/event/youth-fair-trip/
END:VEVENT
BEGIN:VEVENT
DTSTART;TZID=America/New_York:20240315T040000
DTEND;TZID=America/New_York:20240315T130000
DTSTAMP:20260424T081259
CREATED:20240311T131941Z
LAST-MODIFIED:20240311T131941Z
UID:1698-1710475200-1710507600@sashe.net
SUMMARY:Black History Lunch and Learn
DESCRIPTION:Celebrate our heritage with honor while enjoying some fabulous soul food. Wear your african attire or black history t-shirt. Elementry\, Middle and Senior high school classes.
URL:https://sashe.net/event/black-history-lunch-and-learn/
END:VEVENT
BEGIN:VEVENT
DTSTART;TZID=America/New_York:20240314T060000
DTEND;TZID=America/New_York:20240314T130000
DTSTAMP:20260424T081259
CREATED:20240311T131453Z
LAST-MODIFIED:20240314T054410Z
UID:1695-1710396000-1710421200@sashe.net
SUMMARY:Cap & Gown Pictures
DESCRIPTION:Dandy Photography will be on site. Payment is due at the time pictues are taken!!! 5th\, 8th and Senior classes.
URL:https://sashe.net/event/cap-gown-pictures/
LOCATION:In School
END:VEVENT
BEGIN:VEVENT
DTSTART;TZID=America/New_York:20240307T120000
DTEND;TZID=America/New_York:20240307T170000
DTSTAMP:20260424T081259
CREATED:20240303T202612Z
LAST-MODIFIED:20240303T202612Z
UID:1104-1709812800-1709830800@sashe.net
SUMMARY:Senior Dinner
DESCRIPTION:Theme is “Fisrt Class”. Arrive in lobby by 5:30pm
URL:https://sashe.net/event/senior-dinner/
END:VEVENT
BEGIN:VEVENT
DTSTART;VALUE=DATE:20240303
DTEND;VALUE=DATE:20240305
DTSTAMP:20260424T081259
CREATED:20240303T190023Z
LAST-MODIFIED:20240303T195253Z
UID:1083-1709492400-1709578799@sashe.net
SUMMARY:Florida Memorial Tour
DESCRIPTION:Senior class trip. Providing senior with college options students will have the opportunity to ask questions\, learn more about admissions requirements\, living on campus\, scholorships and campus life.
URL:https://sashe.net/event/florida-memorial-tour/
ATTACH;FMTTYPE=image/jpeg:https://sashe.net/wp-content/uploads/2024/02/IMG_1594.jpg
END:VEVENT
END:VCALENDAR