BEGIN:VCALENDAR
VERSION:2.0
PRODID:-//St Anthony&#039;s School of Higher Education - ECPv6.15.20//NONSGML v1.0//EN
CALSCALE:GREGORIAN
METHOD:PUBLISH
X-WR-CALNAME:St Anthony&#039;s School of Higher Education
X-ORIGINAL-URL:https://sashe.net
X-WR-CALDESC:Events for St Anthony&#039;s School of Higher Education
REFRESH-INTERVAL;VALUE=DURATION:PT1H
X-Robots-Tag:noindex
X-PUBLISHED-TTL:PT1H
BEGIN:VTIMEZONE
TZID:America/New_York
BEGIN:DAYLIGHT
TZOFFSETFROM:-0500
TZOFFSETTO:-0400
TZNAME:EDT
DTSTART:20230312T070000
END:DAYLIGHT
BEGIN:STANDARD
TZOFFSETFROM:-0400
TZOFFSETTO:-0500
TZNAME:EST
DTSTART:20231105T060000
END:STANDARD
BEGIN:DAYLIGHT
TZOFFSETFROM:-0500
TZOFFSETTO:-0400
TZNAME:EDT
DTSTART:20240310T070000
END:DAYLIGHT
BEGIN:STANDARD
TZOFFSETFROM:-0400
TZOFFSETTO:-0500
TZNAME:EST
DTSTART:20241103T060000
END:STANDARD
BEGIN:DAYLIGHT
TZOFFSETFROM:-0500
TZOFFSETTO:-0400
TZNAME:EDT
DTSTART:20250309T070000
END:DAYLIGHT
BEGIN:STANDARD
TZOFFSETFROM:-0400
TZOFFSETTO:-0500
TZNAME:EST
DTSTART:20251102T060000
END:STANDARD
END:VTIMEZONE
BEGIN:VEVENT
DTSTART;TZID=America/New_York:20241017T080000
DTEND;TZID=America/New_York:20241017T093000
DTSTAMP:20260424T100724
CREATED:20241001T205426Z
LAST-MODIFIED:20241001T205426Z
UID:5187-1729152000-1729157400@sashe.net
SUMMARY:DONUTS with DAD!!!
DESCRIPTION:We are calling all dads\, grandpas\, Godfathers\, uncles and loving adult-father figures\, of students at St. Anthony’s\, to come out and celebrate your kids\, with us.  On Thursday\, October 17\, 2024\, we welcome you to our first “Donuts with Dads”. It will be a delightful event that celebrates the special bond between children and the father figures in their lives. This day will be filled with joy\, laughter\, and of course\, delicious donuts! What a sweet way to start the day and create lasting memories for both the kids and their cherished role models. We thank you in advance as we recognize your presence as an awesome present to our kids and staff.  We look forward to an incredible time with you!!! #NODREAMISTOOBIG!!!
URL:https://sashe.net/event/donuts-with-dad/
END:VEVENT
BEGIN:VEVENT
DTSTART;TZID=America/New_York:20241008T080000
DTEND;TZID=America/New_York:20241008T170000
DTSTAMP:20260424T100724
CREATED:20241008T001421Z
LAST-MODIFIED:20241008T001422Z
UID:5202-1728374400-1728406800@sashe.net
SUMMARY:HURRICANE UPDATE
DESCRIPTION:Based on the latest weather forecasts\, we will be opened for classes on Tuesday\, October 8\, 2024 and closed on Wednesday\, October 9\, 2024\, due to Hurricane Milton. \n\n\n\nInformation regarding a decision for Thursday & Friday will be shared later this week. \n\n\n\n#NODREAMISTOOBIG!!
URL:https://sashe.net/event/hurricane-update/
END:VEVENT
BEGIN:VEVENT
DTSTART;TZID=America/New_York:20240918T180000
DTEND;TZID=America/New_York:20240918T193000
DTSTAMP:20260424T100724
CREATED:20240830T013624Z
LAST-MODIFIED:20240830T013904Z
UID:5082-1726682400-1726687800@sashe.net
SUMMARY:OPEN HOUSE
DESCRIPTION:We are thrilled to invite all parents and students to our annual Open House event on Wednesday\, September 18\, 2024\, from 6:00 p.m. until 7: 30 p.m. at St. Anthony’s School of Higher Education. This is a wonderful opportunity for you to meet our dedicated teachers\, explore our learning environment\, and learn more about the exciting year ahead.  We will have light snacks and refreshments available as we all learn how we can effectively and efficiently ensure the success of our scholars this school year.  We look forward to seeing you there and starting the school year off on a positive note! #NO DREAM IS TOO BIG!!
URL:https://sashe.net/event/open-house/
ATTACH;FMTTYPE=image/webp:https://sashe.net/wp-content/uploads/2024/08/Open-House-2024-2025-scaled.webp
END:VEVENT
BEGIN:VEVENT
DTSTART;TZID=America/New_York:20240909T110000
DTEND;TZID=America/New_York:20240909T130000
DTSTAMP:20260424T100724
CREATED:20240905T235003Z
LAST-MODIFIED:20240905T235004Z
UID:5103-1725879600-1725886800@sashe.net
SUMMARY:SCHOOL ID PHOTO DAY
DESCRIPTION:School ID Photo Day is an important event for students\, marking the creation of identification cards that serve various purposes throughout the academic year. These photos are not only used for security and administrative reasons but also become cherished mementos of a student’s school years. To prepare\, make sure SCHOLARS\, have your impeccable Oxford attire ready and practice a natural smile. Remember\, these photos often find their way into yearbooks and are kept for years to come\, so it’s worth taking the time to look your best. #NO DREAM IS TOO BIG!!
URL:https://sashe.net/event/school-id-photo-day/
ATTACH;FMTTYPE=image/webp:https://sashe.net/wp-content/uploads/2024/09/School-Photo-ID-Day.webp
END:VEVENT
BEGIN:VEVENT
DTSTART;TZID=America/New_York:20240907T090000
DTEND;TZID=America/New_York:20240907T130000
DTSTAMP:20260424T100724
CREATED:20240807T165455Z
LAST-MODIFIED:20240905T235730Z
UID:4830-1725699600-1725714000@sashe.net
SUMMARY:Life Skills Saturday Thrills
DESCRIPTION:Life Skills Saturday Thrills aims to provide a comprehensive and enjoyable experience that promotes personal growth\, creativity\, mental well-being\, and physical health for students.
URL:https://sashe.net/event/life-skills-saturday-thrills/
ATTACH;FMTTYPE=image/jpeg:https://sashe.net/wp-content/uploads/2024/08/Saturday-School-Flyer-scaled.jpg
END:VEVENT
BEGIN:VEVENT
DTSTART;TZID=America/New_York:20240906T090000
DTEND;TZID=America/New_York:20240906T110000
DTSTAMP:20260424T100724
CREATED:20240830T025413Z
LAST-MODIFIED:20240830T025414Z
UID:5099-1725613200-1725620400@sashe.net
SUMMARY:ELEMENTARY STUDENTS TESTING
DESCRIPTION:Parents today is the second day our Elementary scholars will be testing in Math and also the make-up day for those scholars who may have missed testing earlier this week. Please make sure they have a good night’s rest and a healthy breakfast so they can focus and achieve the greatest results. Go Mighty Lions!!!
URL:https://sashe.net/event/elementary-students-testing-4/
END:VEVENT
BEGIN:VEVENT
DTSTART;TZID=America/New_York:20240905T090000
DTEND;TZID=America/New_York:20240905T110000
DTSTAMP:20260424T100724
CREATED:20240830T025256Z
LAST-MODIFIED:20240830T025257Z
UID:5097-1725526800-1725534000@sashe.net
SUMMARY:ELEMENTARY STUDENTS TESTING
DESCRIPTION:Parents\, our Elementary scholars will be testing in the area of Math today. Please make sure they have a good night’s rest and a healthy breakfast so they can focus and achieve the greatest results. Let’s continue to encourage them. Go Mighty Lions!!!
URL:https://sashe.net/event/elementary-students-testing-3/
END:VEVENT
BEGIN:VEVENT
DTSTART;TZID=America/New_York:20240904T090000
DTEND;TZID=America/New_York:20240904T110000
DTSTAMP:20260424T100724
CREATED:20240830T025114Z
LAST-MODIFIED:20240830T025115Z
UID:5095-1725440400-1725447600@sashe.net
SUMMARY:ELEMENTARY STUDENTS TESTING
DESCRIPTION:Parents\, today is day two (2) of our Elementary scholars testing in the area of Reading. Please make sure they have a good night’s rest and a healthy breakfast so they can focus and achieve the greatest results. Go Mighty Lions!!!
URL:https://sashe.net/event/elementary-students-testing-2/
END:VEVENT
BEGIN:VEVENT
DTSTART;TZID=America/New_York:20240903T090000
DTEND;TZID=America/New_York:20240903T110000
DTSTAMP:20260424T100724
CREATED:20240830T024857Z
LAST-MODIFIED:20240830T024858Z
UID:5093-1725354000-1725361200@sashe.net
SUMMARY:ELEMENTARY STUDENTS TESTING
DESCRIPTION:Parents today begins testing week for our Elementary scholars. They will be testing in the area of Reading today. Please make sure they have a good night’s rest and a healthy breakfast so they can focus and achieve the greatest results. Go Mighty Lions!!!
URL:https://sashe.net/event/elementary-students-testing/
END:VEVENT
BEGIN:VEVENT
DTSTART;TZID=America/New_York:20240830T120000
DTEND;TZID=America/New_York:20240830T120000
DTSTAMP:20260424T100724
CREATED:20240830T024616Z
LAST-MODIFIED:20240830T025622Z
UID:5086-1725019200-1725019200@sashe.net
SUMMARY:UPCOMING STUDENT TESTING
DESCRIPTION:Dear Parents and Guardians\, \n\n\n\nAs we begin the new school year\, we will be conducting baseline testing in both reading and math for all students. These assessments are designed to help us understand each student’s current skill level and to tailor our instruction to meet their individual needs. We will be testing in the areas of Math and Reading.  \n\n\n\nThe results will help us identify each student’s strengths and areas where they may need additional support. Testing will begin for elementary students on Tuesday\, September 3\, 2024\, through Friday\, September 6\, 2024. We appreciate your support and cooperation as we work together to provide the best educational experience for your child. If you have any questions or concerns\, please do not hesitate to contact us. #NO DREAM IS TOO BIG!!
URL:https://sashe.net/event/upcoming-student-testing/
ATTACH;FMTTYPE=image/png:https://sashe.net/wp-content/uploads/2024/08/Assessment-Testing-1.webp
END:VEVENT
BEGIN:VEVENT
DTSTART;TZID=America/New_York:20240826T080000
DTEND;TZID=America/New_York:20240826T170000
DTSTAMP:20260424T100724
CREATED:20240821T034401Z
LAST-MODIFIED:20240821T034749Z
UID:4881-1724659200-1724691600@sashe.net
SUMMARY:FIRST DAY OF SCHOOL
DESCRIPTION:We are BACKKKKKKK!!!!!! Welcome Students and Staff. We are excited for the new school year with new opportunities\, new relationships to establish and new experiences to have and share. We look forward to great things happening at St. Anthony’s.
URL:https://sashe.net/event/first-day-of-school/
ATTACH;FMTTYPE=image/jpeg:https://sashe.net/wp-content/uploads/2024/08/Back-To-School-2024-2025-scaled.jpg
END:VEVENT
BEGIN:VEVENT
DTSTART;TZID=America/New_York:20240531T100000
DTEND;TZID=America/New_York:20240531T130000
DTSTAMP:20260424T100724
CREATED:20240330T011959Z
LAST-MODIFIED:20240507T202901Z
UID:3352-1717149600-1717160400@sashe.net
SUMMARY:Field Day
DESCRIPTION:St. Anthony’s will be having our annual field day\, in conjunction with Center of Life Academy. Various vendors will be there providing our students and staff with a great time- (Frosty\, Elephant Ears\, Games truck\, Bounce houses etc.) We will be going up against Center of Life Academy students in various games such as Tug-of-War\, basketball\, and flag football. To make sure our students are properly hydrated\, we are asking parents to donate a case of water or a pack of Capri suns. This event will take place at the Dorothy Mindingall Park.
URL:https://sashe.net/event/field-day/
LOCATION:Dorothy Mindingall Park\, 5120 NW 24th Avenue\, Miami\, Florida\, 33142\, United States
ATTACH;FMTTYPE=image/jpeg:https://sashe.net/wp-content/uploads/2024/03/IMG-20240507-WA0000.jpg
END:VEVENT
BEGIN:VEVENT
DTSTART;TZID=America/New_York:20240530T180000
DTEND;TZID=America/New_York:20240530T193000
DTSTAMP:20260424T100724
CREATED:20240330T012147Z
LAST-MODIFIED:20240507T202951Z
UID:3354-1717092000-1717097400@sashe.net
SUMMARY:Graduation
DESCRIPTION:St. Anthony’s scholars of seniors\, eight graders and fifth graders will be in their cap and gowns proudly displaying the achievement of all their hard work. Parents come out and celebrate your children’s awesome accomplishment. This will be at the Miami Carol City Senior High School Auditorium.
URL:https://sashe.net/event/graduation/
LOCATION:Miami Carol City Senior High School Auditorium\, 3301 Miami Gardens Dr\, Miami Gardens\, Florida\, 33056\, United States
ATTACH;FMTTYPE=image/jpeg:https://sashe.net/wp-content/uploads/2024/05/Graduation-Flyer.jpg
END:VEVENT
BEGIN:VEVENT
DTSTART;TZID=America/New_York:20240524T190000
DTEND;TZID=America/New_York:20240524T230000
DTSTAMP:20260424T100724
CREATED:20240330T011843Z
LAST-MODIFIED:20240524T014450Z
UID:3350-1716577200-1716591600@sashe.net
SUMMARY:Prom
DESCRIPTION:In partnership with Center of Life Academy\, in Miami\, we will be having our school prom @Space_MIA1. The theme this year is RIO in Paris. Our scholars are going to dress to impress and you don’t want to miss it.
URL:https://sashe.net/event/prom/
LOCATION:SPACE MIA\, 16190 NW 27th Avenue\, Miami Gardens\, Florida\, 33056\, United States
ATTACH;FMTTYPE=image/jpeg:https://sashe.net/wp-content/uploads/2024/03/image000000010.jpg
END:VEVENT
BEGIN:VEVENT
DTSTART;TZID=America/New_York:20240517T110000
DTEND;TZID=America/New_York:20240517T130000
DTSTAMP:20260424T100724
CREATED:20240330T011729Z
LAST-MODIFIED:20240507T013638Z
UID:3348-1715943600-1715950800@sashe.net
SUMMARY:Dave & Busters in Hollywood\, FL
DESCRIPTION:This end of year event is to ensure our seniors have a great time amongst friends. Field trip forms will be distributed on Friday\, May 10\, 2024.
URL:https://sashe.net/event/bowlero-in-dania-beach-fl/
LOCATION:Dave & Busters\, 3000 Oakwood Blvd\, Hollywood\, Florida\, 33020\, United States
ATTACH;FMTTYPE=image/svg+xml:https://sashe.net/wp-content/uploads/2024/03/Dave__Busters_2020.svg
END:VEVENT
BEGIN:VEVENT
DTSTART;TZID=America/New_York:20240515T100000
DTEND;TZID=America/New_York:20240515T120000
DTSTAMP:20260424T100724
CREATED:20240508T163947Z
LAST-MODIFIED:20240508T163947Z
UID:4018-1715767200-1715774400@sashe.net
SUMMARY:Academic Signing Day
DESCRIPTION:Today we celebrate our Senior scholars as they let the world now where they will be taking their next steps in their educational lives. Parents come out an bask in your scholar’s achievements and future endeavors. They are living our mantra that “No Dream Is Too Big”. Go Mighty Lions!!!
URL:https://sashe.net/event/academic-signing-day/
ATTACH;FMTTYPE=image/jpeg:https://sashe.net/wp-content/uploads/2024/05/IMG-20240507-WA0007.jpg
END:VEVENT
BEGIN:VEVENT
DTSTART;TZID=America/New_York:20240510T090000
DTEND;TZID=America/New_York:20240510T110000
DTSTAMP:20260424T100724
CREATED:20240426T155837Z
LAST-MODIFIED:20240426T155837Z
UID:3974-1715331600-1715338800@sashe.net
SUMMARY:High School Students Testing- Make Up Day
DESCRIPTION:Parents today is the make-up day for those High School scholars who may have missed testing earlier this week. Getting this done is essential to their success. Please make sure they have a good night’s rest and a healthy breakfast so they can focus and achieve the greatest results. Go Mighty Lions!!!
URL:https://sashe.net/event/high-school-students-testing-make-up-day/
END:VEVENT
BEGIN:VEVENT
DTSTART;TZID=America/New_York:20240509T090000
DTEND;TZID=America/New_York:20240509T120000
DTSTAMP:20260424T100724
CREATED:20240423T215451Z
LAST-MODIFIED:20240507T013129Z
UID:3927-1715245200-1715256000@sashe.net
SUMMARY:Florida Memorial University Tour
DESCRIPTION:All High School students will be taking a trip to the Historically Black College and University (HBCU) Florida Memorial University.  This experience will allow our students to see what college life is like and what they can expect when they arrive on a college campus.
URL:https://sashe.net/event/florida-memorial-university-tour/
LOCATION:Florida Memorial University\, 15800 NW 42nd Avenue\, Miami Gardens\, Florida\, 33054\, United States
ATTACH;FMTTYPE=image/png:https://sashe.net/wp-content/uploads/2024/04/fmu_logo.png
END:VEVENT
BEGIN:VEVENT
DTSTART;TZID=America/New_York:20240509T090000
DTEND;TZID=America/New_York:20240509T110000
DTSTAMP:20260424T100724
CREATED:20240426T155427Z
LAST-MODIFIED:20240426T155428Z
UID:3971-1715245200-1715252400@sashe.net
SUMMARY:High School Students Testing
DESCRIPTION:Parents\, today is day two (2) of our 10th through 12th grade scholars testing in the area of Math. Please make sure they have a good night’s rest and a healthy breakfast so they can focus and achieve the greatest results. Go Mighty Lions!!!
URL:https://sashe.net/event/high-school-students-testing-3/
END:VEVENT
BEGIN:VEVENT
DTSTART;TZID=America/New_York:20240508T090000
DTEND;TZID=America/New_York:20240508T110000
DTSTAMP:20260424T100724
CREATED:20240426T155257Z
LAST-MODIFIED:20240426T155257Z
UID:3969-1715158800-1715166000@sashe.net
SUMMARY:High School Students Testing
DESCRIPTION:Parents\, today our 10th through 12th grade scholars will begin testing in the area of Math. Please make sure they have a good night’s rest and a healthy breakfast so they can focus and achieve the greatest results. Go Mighty Lions!!!
URL:https://sashe.net/event/high-school-students-testing-2/
END:VEVENT
BEGIN:VEVENT
DTSTART;TZID=America/New_York:20240507T170000
DTEND;TZID=America/New_York:20240507T200000
DTSTAMP:20260424T100724
CREATED:20240507T010839Z
LAST-MODIFIED:20240507T010840Z
UID:3985-1715101200-1715112000@sashe.net
SUMMARY:DIAGON ESPORTS TOURNAMENT
DESCRIPTION:Several of our students will be competing with students all around the world in this incredible E-Sports competition in the games of Minecraft and Rocket League.  Register and see our students compete to win awesome prizes. https://bit.ly.daigonesports
URL:https://sashe.net/event/diagon-esports-tournament/
ATTACH;FMTTYPE=image/jpeg:https://sashe.net/wp-content/uploads/2024/05/E-Sports-Tournament-Flyer.jpg
END:VEVENT
BEGIN:VEVENT
DTSTART;TZID=America/New_York:20240507T090000
DTEND;TZID=America/New_York:20240507T110000
DTSTAMP:20260424T100724
CREATED:20240426T155130Z
LAST-MODIFIED:20240426T155454Z
UID:3967-1715072400-1715079600@sashe.net
SUMMARY:High School Students Testing
DESCRIPTION:Parents\, today is day two (2) of our 10th through 12th grade scholars testing in the area of Reading. Keep encouraging them to push through. Please make sure they have a good night’s rest and a healthy breakfast so they can focus and achieve the greatest results. Go Mighty Lions!!!
URL:https://sashe.net/event/high-school-student-testing/
END:VEVENT
BEGIN:VEVENT
DTSTART;TZID=America/New_York:20240506T090000
DTEND;TZID=America/New_York:20240506T110000
DTSTAMP:20260424T100724
CREATED:20240426T154933Z
LAST-MODIFIED:20240426T154933Z
UID:3965-1714986000-1714993200@sashe.net
SUMMARY:High School Students Testing
DESCRIPTION:Parents\, today our 10th through 12th grade scholars will begin testing in the area of Reading. Please make sure they have a good night’s rest and a healthy breakfast so they can focus and achieve the greatest results. Go Mighty Lions!!!
URL:https://sashe.net/event/high-school-students-testing/
END:VEVENT
BEGIN:VEVENT
DTSTART;TZID=America/New_York:20240503T090000
DTEND;TZID=America/New_York:20240503T110000
DTSTAMP:20260424T100724
CREATED:20240426T154351Z
LAST-MODIFIED:20240426T154352Z
UID:3963-1714726800-1714734000@sashe.net
SUMMARY:8th & 9th Grade Testing- Make Up Day
DESCRIPTION:Parents today is the make-up day for those 8th & 9th grade scholars who may have missed testing earlier this week. Getting this done is essential to their success. Please make sure they have a good night’s rest and a healthy breakfast so they can focus and achieve the greatest results. Go Mighty Lions!!!
URL:https://sashe.net/event/8th-9th-grade-testing-make-up-day/
END:VEVENT
BEGIN:VEVENT
DTSTART;TZID=America/New_York:20240502T090000
DTEND;TZID=America/New_York:20240502T110000
DTSTAMP:20260424T100724
CREATED:20240426T154031Z
LAST-MODIFIED:20240426T154031Z
UID:3961-1714640400-1714647600@sashe.net
SUMMARY:8th & 9th Grade Testing
DESCRIPTION:Parents\, today is day two (2) of testing for our 8th and 9th grade scholars in the area of Math. Please continue to encourage them to push through. Make sure they have a good night’s rest and a healthy breakfast so they can focus and achieve the greatest results. Go Mighty Lions!!!
URL:https://sashe.net/event/8th-9th-grade-testing-4/
END:VEVENT
BEGIN:VEVENT
DTSTART;TZID=America/New_York:20240501T090000
DTEND;TZID=America/New_York:20240501T110000
DTSTAMP:20260424T100724
CREATED:20240426T153807Z
LAST-MODIFIED:20240426T153808Z
UID:3959-1714554000-1714561200@sashe.net
SUMMARY:8th & 9th Grade Testing
DESCRIPTION:Parents\, today our 8th and 9th grade scholars begin testing in the area of Math. Please make sure they have a good night’s rest and a healthy breakfast so they can focus and achieve the greatest results. Go Mighty Lions!!!
URL:https://sashe.net/event/8th-9th-grade-testing-3/
END:VEVENT
BEGIN:VEVENT
DTSTART;TZID=America/New_York:20240501T080000
DTEND;TZID=America/New_York:20240501T170000
DTSTAMP:20260424T100724
CREATED:20240423T214733Z
LAST-MODIFIED:20240423T214733Z
UID:3925-1714550400-1714582800@sashe.net
SUMMARY:DEADLINE
DESCRIPTION:ALL SENIORS COMMUNITY SERVICE HOURS ARE DUE!!!!
URL:https://sashe.net/event/deadline/
END:VEVENT
BEGIN:VEVENT
DTSTART;TZID=America/New_York:20240430T090000
DTEND;TZID=America/New_York:20240430T110000
DTSTAMP:20260424T100724
CREATED:20240426T153403Z
LAST-MODIFIED:20240426T153404Z
UID:3957-1714467600-1714474800@sashe.net
SUMMARY:8th & 9th Grade Testing
DESCRIPTION:Parents\, today is day two (2) of testing for our 8th and 9th grade scholars in the area of Reading. Please make sure they have a good night’s rest and a healthy breakfast so they can focus and achieve the greatest results. Go Mighty Lions!!!
URL:https://sashe.net/event/8th-9th-grade-testing-2/
END:VEVENT
BEGIN:VEVENT
DTSTART;TZID=America/New_York:20240429T090000
DTEND;TZID=America/New_York:20240429T110000
DTSTAMP:20260424T100724
CREATED:20240426T153205Z
LAST-MODIFIED:20240426T153445Z
UID:3955-1714381200-1714388400@sashe.net
SUMMARY:8th & 9th Grade Testing
DESCRIPTION:Parents\, today our 8th and 9th grade scholars will begin testing in the area of Reading. Please make sure they have a good night’s rest and a healthy breakfast so they can focus and achieve the greatest results. Go Mighty Lions!!!
URL:https://sashe.net/event/8th-9th-grade-testing/
END:VEVENT
BEGIN:VEVENT
DTSTART;TZID=America/New_York:20240426T090000
DTEND;TZID=America/New_York:20240426T120000
DTSTAMP:20260424T100724
CREATED:20240419T134929Z
LAST-MODIFIED:20240419T134929Z
UID:3685-1714122000-1714132800@sashe.net
SUMMARY:Student Testing
DESCRIPTION:Parents\, today is day two (2) that our 6th and 7th grade scholars will be testing in the area of Math. It’s also a make-up day for any student that may have missed a day of testing earlier in the week. Let’s continue to encourage them to push through. Go Mighty Lions!!!
URL:https://sashe.net/event/student-testing-8/
END:VEVENT
END:VCALENDAR